BEGIN:VCALENDAR
VERSION:2.0
PRODID:-//Plone.org//NONSGML plone.app.event//EN
X-WR-TIMEZONE:Europe/Madrid
BEGIN:VEVENT
SUMMARY:Petanca. Melés golfes
DTSTART;TZID=Europe/Madrid;VALUE=DATE-TIME:20100713T220000
DTEND;TZID=Europe/Madrid;VALUE=DATE-TIME:20100713T230000
DTSTAMP;VALUE=DATE-TIME:20260425T223710Z
UID:0e51e1ca1cb03124d3d244d61afaae75
CREATED;VALUE=DATE-TIME:20100713T000000Z
CATEGORIES:Esports
LOCATION:Pistes Municipals de Petanca
ORGANIZER:Club Petanca Caldes d'Estrac
URL:https://caldetes.cat/document.php?id=629
END:VEVENT
END:VCALENDAR