BEGIN:VCALENDAR
VERSION:2.0
PRODID:-//Plone.org//NONSGML plone.app.event//EN
X-WR-TIMEZONE:Europe/Madrid
BEGIN:VEVENT
SUMMARY:Petanca. Melés golfes
DTSTART;TZID=Europe/Madrid;VALUE=DATE-TIME:20100720T220000
DTEND;TZID=Europe/Madrid;VALUE=DATE-TIME:20100720T230000
DTSTAMP;VALUE=DATE-TIME:20260425T202531Z
UID:19553e48a9ea14ccf214733c8f6fae1e
CREATED;VALUE=DATE-TIME:20100720T000000Z
CATEGORIES:Esports
LOCATION:Pistes Municipals de Petanca
ORGANIZER:Club Petanca Caldes d'Estrac
URL:https://caldetes.cat/document.php?id=631
END:VEVENT
END:VCALENDAR