BEGIN:VCALENDAR
VERSION:2.0
PRODID:-//Plone.org//NONSGML plone.app.event//EN
X-WR-TIMEZONE:Europe/Madrid
BEGIN:VEVENT
SUMMARY:Petanca. Melés golfes
DTSTART;TZID=Europe/Madrid;VALUE=DATE-TIME:20100730T220000
DTEND;TZID=Europe/Madrid;VALUE=DATE-TIME:20100730T230000
DTSTAMP;VALUE=DATE-TIME:20260425T132003Z
UID:1f0a2e49704b89db3ec00299a8b2f8fb
CREATED;VALUE=DATE-TIME:20100730T000000Z
CATEGORIES:Esports
LOCATION:Pistes Municipals de Petanca
ORGANIZER:Club Petanca Caldes d'Estrac
URL:https://caldetes.cat/document.php?id=634
END:VEVENT
END:VCALENDAR