BEGIN:VCALENDAR
VERSION:2.0
PRODID:-//Plone.org//NONSGML plone.app.event//EN
X-WR-TIMEZONE:Europe/Madrid
BEGIN:VEVENT
SUMMARY:EXPOSICIÓ.PREGON DESIG: MIQUEL BARCELÓ A JOSEP PALAU I FABRE
DTSTART;TZID=Europe/Madrid;VALUE=DATE-TIME:20180909T120000
DTEND;TZID=Europe/Madrid;VALUE=DATE-TIME:20180909T130000
DTSTAMP;VALUE=DATE-TIME:20260425T051253Z
UID:53b4f9fa33ddbbf2cceed864b29a0314
CREATED;VALUE=DATE-TIME:20180217T000000Z
CATEGORIES:Exposició
LOCATION:Fundació Palau - La Riera, 54
ORGANIZER:Fundació Palau i Ajuntament de Caldes d'Estrac
DESCRIPTION:A la Fundació Palau i Fabre
URL:https://caldetes.cat/document.php?id=6362
END:VEVENT
END:VCALENDAR