BEGIN:VCALENDAR
VERSION:2.0
PRODID:-//Plone.org//NONSGML plone.app.event//EN
X-WR-TIMEZONE:Europe/Madrid
BEGIN:VEVENT
SUMMARY:Petanca. Melés golfes
DTSTART;TZID=Europe/Madrid;VALUE=DATE-TIME:20100810T220000
DTEND;TZID=Europe/Madrid;VALUE=DATE-TIME:20100810T230000
DTSTAMP;VALUE=DATE-TIME:20260425T134833Z
UID:ca999aed846d96ccaf1908f7e02a303e
CREATED;VALUE=DATE-TIME:20100810T000000Z
CATEGORIES:Esports
LOCATION:Pistes Municipals de Petanca
ORGANIZER:Club Petanca Caldes d'Estrac
URL:https://caldetes.cat/document.php?id=637
END:VEVENT
END:VCALENDAR