BEGIN:VCALENDAR
VERSION:2.0
PRODID:-//Plone.org//NONSGML plone.app.event//EN
X-WR-TIMEZONE:Europe/Madrid
BEGIN:VEVENT
SUMMARY:Petanca. Melés golfes
DTSTART;TZID=Europe/Madrid;VALUE=DATE-TIME:20100813T220000
DTEND;TZID=Europe/Madrid;VALUE=DATE-TIME:20100813T230000
DTSTAMP;VALUE=DATE-TIME:20260424T095448Z
UID:0884a85e5ae8c2f7dd16f30cd7737363
CREATED;VALUE=DATE-TIME:20100813T000000Z
CATEGORIES:Esports
LOCATION:Pistes Municipals de Petanca
ORGANIZER:Club Petanca Caldes d'Estrac
URL:https://caldetes.cat/document.php?id=638
END:VEVENT
END:VCALENDAR