BEGIN:VCALENDAR
VERSION:2.0
PRODID:-//Plone.org//NONSGML plone.app.event//EN
X-WR-TIMEZONE:Europe/Madrid
BEGIN:VEVENT
SUMMARY:Petanca. Melés golfes
DTSTART;TZID=Europe/Madrid;VALUE=DATE-TIME:20100820T220000
DTEND;TZID=Europe/Madrid;VALUE=DATE-TIME:20100820T230000
DTSTAMP;VALUE=DATE-TIME:20260422T001704Z
UID:9fd8ee5e3f236e9e60b324e6513ec4fd
CREATED;VALUE=DATE-TIME:20100820T000000Z
CATEGORIES:Esports
LOCATION:Pistes Municipals de Petanca
ORGANIZER:Club Petanca Caldes d'Estrac
URL:https://caldetes.cat/document.php?id=640
END:VEVENT
END:VCALENDAR