BEGIN:VCALENDAR
VERSION:2.0
PRODID:-//Plone.org//NONSGML plone.app.event//EN
X-WR-TIMEZONE:Europe/Madrid
BEGIN:VEVENT
SUMMARY:Petanca. Melés golfes
DTSTART;TZID=Europe/Madrid;VALUE=DATE-TIME:20100824T220000
DTEND;TZID=Europe/Madrid;VALUE=DATE-TIME:20100824T230000
DTSTAMP;VALUE=DATE-TIME:20260424T142757Z
UID:172668e908f1b6bcb3701138880d97e2
CREATED;VALUE=DATE-TIME:20100824T000000Z
CATEGORIES:Esports
LOCATION:Pistes Municipals de Petanca
ORGANIZER:Club Petanca Caldes d'Estrac
URL:https://caldetes.cat/document.php?id=641
END:VEVENT
END:VCALENDAR