BEGIN:VCALENDAR
VERSION:2.0
PRODID:-//Plone.org//NONSGML plone.app.event//EN
X-WR-TIMEZONE:Europe/Madrid
BEGIN:VEVENT
SUMMARY:ENTREGA MEDALLA CENTENÀRIA
DTSTART;TZID=Europe/Madrid;VALUE=DATE-TIME:20180403T110000
DTEND;TZID=Europe/Madrid;VALUE=DATE-TIME:20180403T120000
DTSTAMP;VALUE=DATE-TIME:20260423T074514Z
UID:77bcf86172c90d9a474ffb1d87f95710
CREATED;VALUE=DATE-TIME:20180403T000000Z
CATEGORIES:Agenda d'Alcaldia,Agenda institucional
URL:https://caldetes.cat/document.php?id=6443
END:VEVENT
END:VCALENDAR