BEGIN:VCALENDAR
VERSION:2.0
PRODID:-//Plone.org//NONSGML plone.app.event//EN
X-WR-TIMEZONE:Europe/Madrid
BEGIN:VEVENT
SUMMARY:Petanca. Setmana Social
DTSTART;TZID=Europe/Madrid;VALUE=DATE-TIME:20100722T180000
DTEND;TZID=Europe/Madrid;VALUE=DATE-TIME:20100722T190000
DTSTAMP;VALUE=DATE-TIME:20260425T214228Z
UID:1da8cdd6b1d3db5af19023f6decbabb0
CREATED;VALUE=DATE-TIME:20100722T000000Z
LOCATION:Pistes Municipals de Petanca
ORGANIZER:Club Petanca Caldes d'Estrac
URL:https://caldetes.cat/document.php?id=645
END:VEVENT
END:VCALENDAR