BEGIN:VCALENDAR
VERSION:2.0
PRODID:-//Plone.org//NONSGML plone.app.event//EN
X-WR-TIMEZONE:Europe/Madrid
BEGIN:VEVENT
SUMMARY:Taller de Pilates per a Gent Gran
DTSTART;TZID=Europe/Madrid;VALUE=DATE-TIME:20180607T100000
DTEND;TZID=Europe/Madrid;VALUE=DATE-TIME:20180607T110000
DTSTAMP;VALUE=DATE-TIME:20260424T231655Z
UID:9feacbaa78c8a03e0598ee94255cffff
CREATED;VALUE=DATE-TIME:20180315T000000Z
CATEGORIES:Esports,Cursos
LOCATION:Sala Cultural - 1r pis de l'Ajuntament de Caldes d'Estrac, Pl. de la Vila s/n
ORGANIZER:Serveis Socials
COMMENT:Preu: Gratuït
Durada: 1 hora
DESCRIPTION:Tots els dijous de 10 a 11h, del 15 de març al 14 de juny
URL:https://caldetes.cat/document.php?id=6450
END:VEVENT
END:VCALENDAR