BEGIN:VCALENDAR
VERSION:2.0
PRODID:-//Plone.org//NONSGML plone.app.event//EN
X-WR-TIMEZONE:Europe/Madrid
BEGIN:VEVENT
SUMMARY:Xerrada: " L'art de solucionar problemes"
DTSTART;TZID=Europe/Madrid;VALUE=DATE-TIME:20100922T170000
DTEND;TZID=Europe/Madrid;VALUE=DATE-TIME:20100922T180000
DTSTAMP;VALUE=DATE-TIME:20260425T231037Z
UID:48d27fa7166b843fc85946ccde890082
CREATED;VALUE=DATE-TIME:20100922T000000Z
LOCATION:Equipament de Promoció Econòmica i Cultural
ORGANIZER:Àrea de Serveis Socials amb la col·laboració de l'Agrupació de Pensionistes i Tercera Edat de Caldes d'Estrac
DESCRIPTION:a càrrec de Francesc Fossas
URL:https://caldetes.cat/document.php?id=646
END:VEVENT
END:VCALENDAR