BEGIN:VCALENDAR
VERSION:2.0
PRODID:-//Plone.org//NONSGML plone.app.event//EN
X-WR-TIMEZONE:Europe/Madrid
BEGIN:VEVENT
SUMMARY:Taller de Tabals - Percussió de Carrer
DTSTART;TZID=Europe/Madrid;VALUE=DATE-TIME:20180531T200000
DTEND;TZID=Europe/Madrid;VALUE=DATE-TIME:20180531T210000
DTSTAMP;VALUE=DATE-TIME:20260426T012550Z
UID:822dfde0b1f67592a9264385b4dd7908
CREATED;VALUE=DATE-TIME:20180412T000000Z
CATEGORIES:Cursos
LOCATION:Sala Cultural - 1r pis de l'Ajuntament de Caldes d'Estrac, Pl. de la Vila s/n
ORGANIZER:Àrea de Cultura - Colla de Diables d'Estrac
COMMENT:Preu: Gratuït
Durada: 12 i 26 d'abril i 17, 24 i 31 de maig, de 20h a 22h
DESCRIPTION:A la Sala Cultural
URL:https://caldetes.cat/document.php?id=6461
END:VEVENT
END:VCALENDAR