BEGIN:VCALENDAR
VERSION:2.0
PRODID:-//Plone.org//NONSGML plone.app.event//EN
X-WR-TIMEZONE:Europe/Madrid
BEGIN:VEVENT
SUMMARY:EXPOSICIÓ &OpenCurlyQuote;LA VIDA A CALDES D´ESTRAC SEGONS JOAN CUNILL
DTSTART;TZID=Europe/Madrid;VALUE=DATE-TIME:20180610T120000
DTEND;TZID=Europe/Madrid;VALUE=DATE-TIME:20180610T130000
DTSTAMP;VALUE=DATE-TIME:20260423T024513Z
UID:b318b1e1181ff6c9d6d71fcaa716edc0
CREATED;VALUE=DATE-TIME:20180428T000000Z
CATEGORIES:Exposició
LOCATION:Fundació Palau - La Riera, 54
ORGANIZER:Fundació Palau i Ajuntament de Caldes d'Estrac
COMMENT:Preu: Gratuït
Durada: mirar horaris a www.fundaciopalau.cat
DESCRIPTION:IMATGES DEL SEU ARXIU
URL:https://caldetes.cat/document.php?id=6467
END:VEVENT
END:VCALENDAR