BEGIN:VCALENDAR
VERSION:2.0
PRODID:-//Plone.org//NONSGML plone.app.event//EN
X-WR-TIMEZONE:Europe/Madrid
BEGIN:VEVENT
SUMMARY:Festa de la PRIMAVERA
DTSTART;TZID=Europe/Madrid;VALUE=DATE-TIME:20180408T110000
DTEND;TZID=Europe/Madrid;VALUE=DATE-TIME:20180408T120000
DTSTAMP;VALUE=DATE-TIME:20260426T015640Z
UID:557785016376c49622ff9066cbd5156f
CREATED;VALUE=DATE-TIME:20180408T000000Z
CATEGORIES:Festa,Infantils
LOCATION:Escola Sagrada Família - Carrer Major, 50
ORGANIZER:AMPA de l'Escola Sagrada Familia amb el suport de l'Ajuntament de Caldes
COMMENT:Preu: 4 euros. 5 euros per als que no siguin SOCIS de l'AMPA
DESCRIPTION:Mercat d'intercanvi, vermut, pollastre a l'ast, barra de dolços i pintada de samarretes
URL:https://caldetes.cat/document.php?id=6479
END:VEVENT
END:VCALENDAR