BEGIN:VCALENDAR
VERSION:2.0
PRODID:-//Plone.org//NONSGML plone.app.event//EN
X-WR-TIMEZONE:Europe/Madrid
BEGIN:VEVENT
SUMMARY:La Biblioteca a la Fira d'Entitats de Sant Jordi
DTSTART;TZID=Europe/Madrid;VALUE=DATE-TIME:20180422T100000
DTEND;TZID=Europe/Madrid;VALUE=DATE-TIME:20180422T110000
DTSTAMP;VALUE=DATE-TIME:20260426T062221Z
UID:e6a7fd760a7c706ebc6f1a38f0948ed6
CREATED;VALUE=DATE-TIME:20180422T000000Z
CATEGORIES:Mostra,Literatura
LOCATION:Esplanada Can Muntanyà
ORGANIZER:Ajuntament de Caldes d'Estrac i Entitats i Associacions de Caldes d'Estrac
COMMENT:Durada: De 10 a 14h
URL:https://caldetes.cat/document.php?id=6494
END:VEVENT
END:VCALENDAR