BEGIN:VCALENDAR
VERSION:2.0
PRODID:-//Plone.org//NONSGML plone.app.event//EN
X-WR-TIMEZONE:Europe/Madrid
BEGIN:VEVENT
SUMMARY:Trobada amb l'il·lustrador Jordi Vila Delclòs
DTSTART;TZID=Europe/Madrid;VALUE=DATE-TIME:20180516T100000
DTEND;TZID=Europe/Madrid;VALUE=DATE-TIME:20180516T110000
DTSTAMP;VALUE=DATE-TIME:20260424T113923Z
UID:a9f365edd211743f9cbbc0b1ab1206dd
CREATED;VALUE=DATE-TIME:20180516T000000Z
CATEGORIES:Literatura,Infantils
LOCATION:Biblioteca Can Milans - C/ Esglèsia, 6
ORGANIZER:Biblioteca Can Milans i Escola Sagrada Família
DESCRIPTION:Els nens de 6è visiten la biblioteca
URL:https://caldetes.cat/document.php?id=6497
END:VEVENT
END:VCALENDAR