BEGIN:VCALENDAR
VERSION:2.0
PRODID:-//Plone.org//NONSGML plone.app.event//EN
X-WR-TIMEZONE:Europe/Madrid
BEGIN:VEVENT
SUMMARY:La biblioteca present a la Fira Aqua Calida
DTSTART;TZID=Europe/Madrid;VALUE=DATE-TIME:20180603T235500
DTEND;TZID=Europe/Madrid;VALUE=DATE-TIME:20180604T005500
DTSTAMP;VALUE=DATE-TIME:20260425T134818Z
UID:d2d0c21e7cd513e94da15c2091226b71
CREATED;VALUE=DATE-TIME:20180602T000000Z
CATEGORIES:Mostra,Festa,Literatura,Infantils
LOCATION:Centre de la Vila
ORGANIZER:Ajuntament de Caldes d'Estrac
COMMENT:Preu: Gratuït
Durada: Dissabte 2 i diumenge 3 de juny
URL:https://caldetes.cat/document.php?id=6498
END:VEVENT
END:VCALENDAR