BEGIN:VCALENDAR
VERSION:2.0
PRODID:-//Plone.org//NONSGML plone.app.event//EN
X-WR-TIMEZONE:Europe/Madrid
BEGIN:VEVENT
SUMMARY:Montserrat Roig: Paraules d'Avui
DTSTART;TZID=Europe/Madrid;VALUE=DATE-TIME:20180513T190000
DTEND;TZID=Europe/Madrid;VALUE=DATE-TIME:20180513T200000
DTSTAMP;VALUE=DATE-TIME:20260419T183841Z
UID:1ec8eced66024c27dbf974d9ee5514cb
CREATED;VALUE=DATE-TIME:20180513T000000Z
CATEGORIES:Literatura,Teatre
LOCATION:Sala Cultural - 1r pis de l'Ajuntament de Caldes d'Estrac, Pl. de la Vila s/n
ORGANIZER:Àrea de Cultura
COMMENT:Preu: 3&euro;
DESCRIPTION:Espectacle literari musicat amb l'actriu Mariona Casanovas i, Emili Cuenca a la guitarra
URL:https://caldetes.cat/document.php?id=6509
END:VEVENT
END:VCALENDAR