BEGIN:VCALENDAR
VERSION:2.0
PRODID:-//Plone.org//NONSGML plone.app.event//EN
X-WR-TIMEZONE:Europe/Madrid
BEGIN:VEVENT
SUMMARY:3a. Fira - Mostra d'Entitats - Sant Jordi
DTSTART;TZID=Europe/Madrid;VALUE=DATE-TIME:20180422T100000
DTEND;TZID=Europe/Madrid;VALUE=DATE-TIME:20180422T110000
DTSTAMP;VALUE=DATE-TIME:20260426T062210Z
UID:c6a56543618a3460bf82efd8b9356d08
CREATED;VALUE=DATE-TIME:20180422T000000Z
CATEGORIES:Esports,Mostra,Festa
LOCATION:Esplanada Can Muntanyà
ORGANIZER:Associacions i entitats de Caldes d'Estrac
COMMENT:Preu: Gratuït
Durada: de 10h a 14h, Fira - Mostra d'Entitats. 14:30h - Fideuada Popular
DESCRIPTION:Roses, literatura i cultura per celebrar Sant Jordi
URL:https://caldetes.cat/document.php?id=6538
END:VEVENT
END:VCALENDAR