BEGIN:VCALENDAR
VERSION:2.0
PRODID:-//Plone.org//NONSGML plone.app.event//EN
X-WR-TIMEZONE:Europe/Madrid
BEGIN:VEVENT
SUMMARY:Festival "Tots Som Indígenes"
DTSTART;TZID=Europe/Madrid;VALUE=DATE-TIME:20180519T120000
DTEND;TZID=Europe/Madrid;VALUE=DATE-TIME:20180519T130000
DTSTAMP;VALUE=DATE-TIME:20260425T132326Z
UID:7294987a6884168c426044fbd002736b
CREATED;VALUE=DATE-TIME:20180519T000000Z
CATEGORIES:Festa,Música
LOCATION:Pèrgola Can Muntanyà - Parc Can Muntanyà
ORGANIZER:Associació Camí Ral 39 Verdura i Cultura
COMMENT:Preu: Gratuït
Durada: de 12h a 18h
DESCRIPTION:Amb motiu de la reobertura del Parc Can Muntanyà
URL:https://caldetes.cat/document.php?id=6555
END:VEVENT
END:VCALENDAR