BEGIN:VCALENDAR
VERSION:2.0
PRODID:-//Plone.org//NONSGML plone.app.event//EN
X-WR-TIMEZONE:Europe/Madrid
BEGIN:VEVENT
SUMMARY:PROMOCIÓ MAIG 2018
DTSTART;TZID=Europe/Madrid;VALUE=DATE-TIME:20180501T235500
DTEND;TZID=Europe/Madrid;VALUE=DATE-TIME:20180502T005500
DTSTAMP;VALUE=DATE-TIME:20260424T133003Z
UID:202520868b21cd44f3b74339137ac78b
CREATED;VALUE=DATE-TIME:20180501T000000Z
CATEGORIES:Esports
LOCATION:Pavelló Poliesportiu Municipal
ORGANIZER:Sige 2005, s.l.
COMMENT:Durada: Fins al 31/05/2018
DESCRIPTION:T'ESTEM ESPERANT!
URL:https://caldetes.cat/document.php?id=6571
END:VEVENT
END:VCALENDAR