BEGIN:VCALENDAR
VERSION:2.0
PRODID:-//Plone.org//NONSGML plone.app.event//EN
X-WR-TIMEZONE:Europe/Madrid
BEGIN:VEVENT
SUMMARY:Sortida a Girona TEMPS DE FLORS
DTSTART;TZID=Europe/Madrid;VALUE=DATE-TIME:20180513T080000
DTEND;TZID=Europe/Madrid;VALUE=DATE-TIME:20180513T090000
DTSTAMP;VALUE=DATE-TIME:20260423T203203Z
UID:16df1161f9b2d272458e7261a1adc64b
CREATED;VALUE=DATE-TIME:20180513T000000Z
LOCATION:Girona
ORGANIZER:Fletxa d'Or
COMMENT:Preu: 45 Euros
Durada: 9,30 hores
DESCRIPTION:Excursió organitzada per FLETXA D'OR
URL:https://caldetes.cat/document.php?id=6580
END:VEVENT
END:VCALENDAR