BEGIN:VCALENDAR
VERSION:2.0
PRODID:-//Plone.org//NONSGML plone.app.event//EN
X-WR-TIMEZONE:Europe/Madrid
BEGIN:VEVENT
SUMMARY:Presentació del Llibre "Fotografies antigues de Caldes 1870-1962"
DTSTART;TZID=Europe/Madrid;VALUE=DATE-TIME:20180505T180000
DTEND;TZID=Europe/Madrid;VALUE=DATE-TIME:20180505T190000
DTSTAMP;VALUE=DATE-TIME:20260426T053123Z
UID:26b2ed9b1e5933638fb1aed83013caea
CREATED;VALUE=DATE-TIME:20180505T000000Z
CATEGORIES:Literatura
LOCATION:Sala Cultural - 1r pis de l'Ajuntament de Caldes d'Estrac, Pl. de la Vila s/n
ORGANIZER:Arrels Cultura
COMMENT:Preu: Gratuït
DESCRIPTION:A càrrec de Lluís Bassat
URL:https://caldetes.cat/document.php?id=6581
END:VEVENT
END:VCALENDAR