BEGIN:VCALENDAR
VERSION:2.0
PRODID:-//Plone.org//NONSGML plone.app.event//EN
X-WR-TIMEZONE:Europe/Madrid
BEGIN:VEVENT
SUMMARY:Curs Ocupacional d'Atenció Domiciliària
DTSTART;TZID=Europe/Madrid;VALUE=DATE-TIME:20180609T100000
DTEND;TZID=Europe/Madrid;VALUE=DATE-TIME:20180609T110000
DTSTAMP;VALUE=DATE-TIME:20260425T160640Z
UID:6a3dd3f0d74bf9ed1e72e64b409249ab
CREATED;VALUE=DATE-TIME:20180609T000000Z
CATEGORIES:Cursos
LOCATION:Espai Jove - Crtra. N II, Km 654
ORGANIZER:Àrea de Joventut
COMMENT:Preu: Gratuït
Durada: de 10:00h a 14:00h i de 16:00h a 20:00h
DESCRIPTION:Curs de Cangurs
URL:https://caldetes.cat/document.php?id=6594
END:VEVENT
END:VCALENDAR