BEGIN:VCALENDAR
VERSION:2.0
PRODID:-//Plone.org//NONSGML plone.app.event//EN
X-WR-TIMEZONE:Europe/Madrid
BEGIN:VEVENT
SUMMARY:Mercat de segona mà
DTSTART;TZID=Europe/Madrid;VALUE=DATE-TIME:20180520T090000
DTEND;TZID=Europe/Madrid;VALUE=DATE-TIME:20180520T100000
DTSTAMP;VALUE=DATE-TIME:20260424T083601Z
UID:b65ab008c5bd3c9f0472a6219da2624e
CREATED;VALUE=DATE-TIME:20180520T000000Z
CATEGORIES:Mostra
LOCATION:Esplanada Can Muntanyà
ORGANIZER:Asociación segona oportunitat vintage
COMMENT:Preu: lliure
Durada: de 9:00 a 14:00h
DESCRIPTION:No t'ho perdis
URL:https://caldetes.cat/document.php?id=6603
END:VEVENT
END:VCALENDAR