BEGIN:VCALENDAR
VERSION:2.0
PRODID:-//Plone.org//NONSGML plone.app.event//EN
X-WR-TIMEZONE:Europe/Madrid
BEGIN:VEVENT
SUMMARY:Exposició de 'Petits grans artistes' a la Fundació Palau
DTSTART;TZID=Europe/Madrid;VALUE=DATE-TIME:20180620T000000
DTEND;TZID=Europe/Madrid;VALUE=DATE-TIME:20180620T010000
DTSTAMP;VALUE=DATE-TIME:20260425T132208Z
UID:5dc873ad230b54d30cc1b8124a741a5e
CREATED;VALUE=DATE-TIME:20180615T000000Z
CATEGORIES:Mostra,Infantils
LOCATION:Fundació Palau - La Riera, 54
ORGANIZER:Escola Sagrada Familia i Fundació Palau
DESCRIPTION:Tercera edició
URL:https://caldetes.cat/document.php?id=6640
END:VEVENT
END:VCALENDAR