BEGIN:VCALENDAR
VERSION:2.0
PRODID:-//Plone.org//NONSGML plone.app.event//EN
X-WR-TIMEZONE:Europe/Madrid
BEGIN:VEVENT
SUMMARY:PROMOCIÓ JUNY 2018
DTSTART;TZID=Europe/Madrid;VALUE=DATE-TIME:20180602T235500
DTEND;TZID=Europe/Madrid;VALUE=DATE-TIME:20180603T005500
DTSTAMP;VALUE=DATE-TIME:20260424T042806Z
UID:f9834417a957d44b5a34cdea086959d8
CREATED;VALUE=DATE-TIME:20180601T000000Z
CATEGORIES:Esports
LOCATION:Pavelló Poliesportiu Municipal - Carretera N-II, km 654
ORGANIZER:Sige 2005, s.l.
COMMENT:Durada: Fins al 30/06/2018
DESCRIPTION:ARA ÉS EL MOMENT!
URL:https://caldetes.cat/document.php?id=6659
END:VEVENT
END:VCALENDAR