BEGIN:VCALENDAR
VERSION:2.0
PRODID:-//Plone.org//NONSGML plone.app.event//EN
X-WR-TIMEZONE:Europe/Madrid
BEGIN:VEVENT
SUMMARY:CAMPANYA SOLIDÀRIA: "La fam no fa vacances"
DTSTART;TZID=Europe/Madrid;VALUE=DATE-TIME:20180702T235500
DTEND;TZID=Europe/Madrid;VALUE=DATE-TIME:20180703T005500
DTSTAMP;VALUE=DATE-TIME:20260426T062151Z
UID:cdaddc1df6017e9f9dd807000396d10b
CREATED;VALUE=DATE-TIME:20180702T000000Z
CATEGORIES:Literatura
LOCATION:Biblioteca Can Milans - C/ Esglèsia, 6
ORGANIZER:Biblioteca Can Milans
COMMENT:Durada: De dilluns a divendres, de 15:30 a 20:30.
DESCRIPTION:Recollida d'aliments a la biblioteca
URL:https://caldetes.cat/document.php?id=6660
END:VEVENT
END:VCALENDAR