BEGIN:VCALENDAR
VERSION:2.0
PRODID:-//Plone.org//NONSGML plone.app.event//EN
X-WR-TIMEZONE:Europe/Madrid
BEGIN:VEVENT
SUMMARY:Contes solidaris amb pa i xocolata. &OpenCurlyDoubleQuote;Contes per fer volar somriures&CloseCurlyDoubleQuote;.
DTSTART;TZID=Europe/Madrid;VALUE=DATE-TIME:20180727T190000
DTEND;TZID=Europe/Madrid;VALUE=DATE-TIME:20180727T200000
DTSTAMP;VALUE=DATE-TIME:20260426T015747Z
UID:7095db515545f3cf70c651cbba661bbb
CREATED;VALUE=DATE-TIME:20180727T000000Z
LOCATION:Exterior de la biblioteca - C/ Esglèsia, 6
ORGANIZER:Biblioteca Can Milans
COMMENT:Preu: OLI, LLEGUM CUIT, LLET O CONSERVES per col·laborar amb la campanya del Banc dels Aliments
DESCRIPTION:A càrrec d'Elena Codó
URL:https://caldetes.cat/document.php?id=6663
END:VEVENT
END:VCALENDAR