BEGIN:VCALENDAR
VERSION:2.0
PRODID:-//Plone.org//NONSGML plone.app.event//EN
X-WR-TIMEZONE:Europe/Madrid
BEGIN:VEVENT
SUMMARY:Exposició: &OpenCurlyDoubleQuote;Super Women, Super Inventors&CloseCurlyDoubleQuote;
DTSTART;TZID=Europe/Madrid;VALUE=DATE-TIME:20180731T235500
DTEND;TZID=Europe/Madrid;VALUE=DATE-TIME:20180801T005500
DTSTAMP;VALUE=DATE-TIME:20260425T210645Z
UID:d75842527d052d0dc12cae9ffb26ab25
CREATED;VALUE=DATE-TIME:20180731T000000Z
CATEGORIES:Exposició
LOCATION:Biblioteca Can Milans - C/ Esglèsia, 6
ORGANIZER:Biblioteca Can Milans
COMMENT:Durada: De dilluns a divendres, de 15:30 a 20:30.
DESCRIPTION:Produïda per la Gerència del Servei de Biblioteques de la Diputació de Barcelona.
URL:https://caldetes.cat/document.php?id=6664
END:VEVENT
END:VCALENDAR