BEGIN:VCALENDAR
VERSION:2.0
PRODID:-//Plone.org//NONSGML plone.app.event//EN
X-WR-TIMEZONE:Europe/Madrid
BEGIN:VEVENT
SUMMARY:Taller de risoteràpia per a gent gran
DTSTART;TZID=Europe/Madrid;VALUE=DATE-TIME:20181107T100000
DTEND;TZID=Europe/Madrid;VALUE=DATE-TIME:20181107T110000
DTSTAMP;VALUE=DATE-TIME:20260423T020120Z
UID:546aba18fcbedd991644c0be5554648c
CREATED;VALUE=DATE-TIME:20180919T000000Z
CATEGORIES:Cursos
LOCATION:Sala Cultural - 1r pis de l'Ajuntament de Caldes d'Estrac, Pl. de la Vila s/n
ORGANIZER:Crea d'Atenció Social
COMMENT:Preu: Gratis
Durada: 2 hores
DESCRIPTION:Els dimecres de 10 a 12 a la Sala Cultural
URL:https://caldetes.cat/document.php?id=6668
END:VEVENT
END:VCALENDAR