BEGIN:VCALENDAR
VERSION:2.0
PRODID:-//Plone.org//NONSGML plone.app.event//EN
X-WR-TIMEZONE:Europe/Madrid
BEGIN:VEVENT
SUMMARY:Nit de tapes i música al mercat municipal
DTSTART;TZID=Europe/Madrid;VALUE=DATE-TIME:20180630T203000
DTEND;TZID=Europe/Madrid;VALUE=DATE-TIME:20180630T213000
DTSTAMP;VALUE=DATE-TIME:20260425T152408Z
UID:5b2cdbd0a8f04620f1b51caba0c3cc54
CREATED;VALUE=DATE-TIME:20180630T000000Z
CATEGORIES:Mostra,Festa,Música
LOCATION:Altre (ho explico més avall)
ORGANIZER:Mercat Municipal
COMMENT:Preu: des de 1&euro;
Durada: a partir de les 20:30
URL:https://caldetes.cat/document.php?id=6688
END:VEVENT
END:VCALENDAR