BEGIN:VCALENDAR
VERSION:2.0
PRODID:-//Plone.org//NONSGML plone.app.event//EN
X-WR-TIMEZONE:Europe/Madrid
BEGIN:VEVENT
SUMMARY:MERCAT DE SEGONA MÀ
DTSTART;TZID=Europe/Madrid;VALUE=DATE-TIME:20181021T090000
DTEND;TZID=Europe/Madrid;VALUE=DATE-TIME:20181021T100000
DTSTAMP;VALUE=DATE-TIME:20260423T144919Z
UID:b9364289e6ecd88ec6cd283868999630
CREATED;VALUE=DATE-TIME:20181021T000000Z
CATEGORIES:Mostra
LOCATION:Esplanada Can Muntanyà
ORGANIZER:Associació Segona Oportunitat Vintage
COMMENT:Preu: lliure
Durada: de 9:00h a 14:00h
URL:https://caldetes.cat/document.php?id=6714
END:VEVENT
END:VCALENDAR