BEGIN:VCALENDAR
VERSION:2.0
PRODID:-//Plone.org//NONSGML plone.app.event//EN
X-WR-TIMEZONE:Europe/Madrid
BEGIN:VEVENT
SUMMARY:Espectacle astronòmic: Eclipsi Total de Lluna
DTSTART;TZID=Europe/Madrid;VALUE=DATE-TIME:20180727T204500
DTEND;TZID=Europe/Madrid;VALUE=DATE-TIME:20180727T214500
DTSTAMP;VALUE=DATE-TIME:20260426T015810Z
UID:61f1b74af74bb908fb765fd28f06ffd7
CREATED;VALUE=DATE-TIME:20180727T000000Z
CATEGORIES:Festa,Música
LOCATION:Pèrgola Can Muntanyà - Parc Can Muntanyà
ORGANIZER:Àrea de Cultura - Associació Torrenova 40 Art i Esport
COMMENT:Preu: Gratuït
Durada: de 20:45h a 23:30h
URL:https://caldetes.cat/document.php?id=6718
END:VEVENT
END:VCALENDAR