BEGIN:VCALENDAR
VERSION:2.0
PRODID:-//Plone.org//NONSGML plone.app.event//EN
X-WR-TIMEZONE:Europe/Madrid
BEGIN:VEVENT
SUMMARY:Nit dels Fogalls
DTSTART;TZID=Europe/Madrid;VALUE=DATE-TIME:20180910T003000
DTEND;TZID=Europe/Madrid;VALUE=DATE-TIME:20180910T013000
DTSTAMP;VALUE=DATE-TIME:20260426T062537Z
UID:0e6990c0afc9a8948f749b19e8512145
CREATED;VALUE=DATE-TIME:20180910T000000Z
CATEGORIES:Festa,Música
LOCATION:Esplanada Can Muntanyà
ORGANIZER:Àrea de Cultura i Joventut
DESCRIPTION:Festa Major 2018
URL:https://caldetes.cat/document.php?id=6748
END:VEVENT
END:VCALENDAR