BEGIN:VCALENDAR
VERSION:2.0
PRODID:-//Plone.org//NONSGML plone.app.event//EN
X-WR-TIMEZONE:Europe/Madrid
BEGIN:VEVENT
SUMMARY:Nit de poesia i música: "Dues veus, un únic somni"
DTSTART;TZID=Europe/Madrid;VALUE=DATE-TIME:20180906T220000
DTEND;TZID=Europe/Madrid;VALUE=DATE-TIME:20180906T230000
DTSTAMP;VALUE=DATE-TIME:20260425T132017Z
UID:2ad6106107adaf7dffe8e3c8199d2f8f
CREATED;VALUE=DATE-TIME:20180906T000000Z
CATEGORIES:Música,Teatre
LOCATION:Sala Cultural - 1r pis de l'Ajuntament de Caldes d'Estrac, Pl. de la Vila s/n
ORGANIZER:Biblioteca Can Milans - Àrea de Cultura
COMMENT:Preu: Gratuït
DESCRIPTION:Festa Major 2018
URL:https://caldetes.cat/document.php?id=6752
END:VEVENT
END:VCALENDAR