BEGIN:VCALENDAR
VERSION:2.0
PRODID:-//Plone.org//NONSGML plone.app.event//EN
X-WR-TIMEZONE:Europe/Madrid
BEGIN:VEVENT
SUMMARY:Cerca - Brindis amb ZeBRASS -Marching Band-
DTSTART;TZID=Europe/Madrid;VALUE=DATE-TIME:20180907T180000
DTEND;TZID=Europe/Madrid;VALUE=DATE-TIME:20180907T190000
DTSTAMP;VALUE=DATE-TIME:20260425T193827Z
UID:5ebbd39f736c10082a2874c391223591
CREATED;VALUE=DATE-TIME:20180907T000000Z
CATEGORIES:Festa,Música
LOCATION:Cercavila pel municipi
ORGANIZER:Àrea de Cultura
DESCRIPTION:Festa Major 2018
URL:https://caldetes.cat/document.php?id=6753
END:VEVENT
END:VCALENDAR