BEGIN:VCALENDAR
VERSION:2.0
PRODID:-//Plone.org//NONSGML plone.app.event//EN
X-WR-TIMEZONE:Europe/Madrid
BEGIN:VEVENT
SUMMARY:Cercavila de Gegants
DTSTART;TZID=Europe/Madrid;VALUE=DATE-TIME:20180908T180000
DTEND;TZID=Europe/Madrid;VALUE=DATE-TIME:20180908T190000
DTSTAMP;VALUE=DATE-TIME:20260424T154213Z
UID:1f257ef97d90a190033ebc853f0ed496
CREATED;VALUE=DATE-TIME:20180908T000000Z
CATEGORIES:Festa
LOCATION:Cercavila pel municipi
ORGANIZER:Colla de Geganters i Grallers de Caldes d'Estrac - Àrea de Cultura
DESCRIPTION:Festa Major 2018
URL:https://caldetes.cat/document.php?id=6757
END:VEVENT
END:VCALENDAR