BEGIN:VCALENDAR
VERSION:2.0
PRODID:-//Plone.org//NONSGML plone.app.event//EN
X-WR-TIMEZONE:Europe/Madrid
BEGIN:VEVENT
SUMMARY:Plantada de Gegants
DTSTART;TZID=Europe/Madrid;VALUE=DATE-TIME:20180908T170000
DTEND;TZID=Europe/Madrid;VALUE=DATE-TIME:20180908T180000
DTSTAMP;VALUE=DATE-TIME:20260424T154258Z
UID:7240556da1d5fb1cf4bba4049ee9fed5
CREATED;VALUE=DATE-TIME:20180908T000000Z
CATEGORIES:Festa
LOCATION:Plaça del Molí
ORGANIZER:Colla de Geganters i Grallers de Caldes d'Estrac - Àrea de Cultura
DESCRIPTION:Festa Major 2018
URL:https://caldetes.cat/document.php?id=6758
END:VEVENT
END:VCALENDAR