BEGIN:VCALENDAR
VERSION:2.0
PRODID:-//Plone.org//NONSGML plone.app.event//EN
X-WR-TIMEZONE:Europe/Madrid
BEGIN:VEVENT
SUMMARY:Espectacle familliar - Circ de carrer: "Xarivari Blues"
DTSTART;TZID=Europe/Madrid;VALUE=DATE-TIME:20180909T180000
DTEND;TZID=Europe/Madrid;VALUE=DATE-TIME:20180909T190000
DTSTAMP;VALUE=DATE-TIME:20260425T202516Z
UID:c2fd9976010bfce769ad3033cf91520f
CREATED;VALUE=DATE-TIME:20180909T000000Z
CATEGORIES:Mostra,Festa,Infantils
LOCATION:Esplanada Can Muntanyà
ORGANIZER:Àrea de Cultura
DESCRIPTION:Festa Major 2018
URL:https://caldetes.cat/document.php?id=6768
END:VEVENT
END:VCALENDAR