BEGIN:VCALENDAR
VERSION:2.0
PRODID:-//Plone.org//NONSGML plone.app.event//EN
X-WR-TIMEZONE:Europe/Madrid
BEGIN:VEVENT
SUMMARY:1er Torneig de Handbol Base de Festa Major
DTSTART;TZID=Europe/Madrid;VALUE=DATE-TIME:20180901T160000
DTEND;TZID=Europe/Madrid;VALUE=DATE-TIME:20180901T170000
DTSTAMP;VALUE=DATE-TIME:20260426T000146Z
UID:619267c1ff65e31358a9ab975ef158ed
CREATED;VALUE=DATE-TIME:20180901T000000Z
CATEGORIES:Esports
LOCATION:Pavelló Poliesportiu Municipal - Carretera N-II, km 654
ORGANIZER:Club de Hàndbol Llavaneres - Caldes d'Estrac - Àrea d'Esports
DESCRIPTION:Festa Major 2018
URL:https://caldetes.cat/document.php?id=6777
END:VEVENT
END:VCALENDAR