BEGIN:VCALENDAR
VERSION:2.0
PRODID:-//Plone.org//NONSGML plone.app.event//EN
X-WR-TIMEZONE:Europe/Madrid
BEGIN:VEVENT
SUMMARY:Nit de tapes i música al mercat municipal
DTSTART;TZID=Europe/Madrid;VALUE=DATE-TIME:20181027T200000
DTEND;TZID=Europe/Madrid;VALUE=DATE-TIME:20181027T210000
DTSTAMP;VALUE=DATE-TIME:20260422T060036Z
UID:c3e3612fe1adfb8e92483d9859cb730c
CREATED;VALUE=DATE-TIME:20181027T000000Z
CATEGORIES:Mostra
LOCATION:Mercat Muncipal
ORGANIZER:Mercat Municipal
COMMENT:Preu: des de 1&euro;
Durada: a partir de les 20:00
DESCRIPTION:tapes des de 1&euro;
URL:https://caldetes.cat/document.php?id=6830
END:VEVENT
END:VCALENDAR