BEGIN:VCALENDAR
VERSION:2.0
PRODID:-//Plone.org//NONSGML plone.app.event//EN
X-WR-TIMEZONE:Europe/Madrid
BEGIN:VEVENT
SUMMARY:HORA DEL CONTE: &OpenCurlyDoubleQuote;Pum! Contes d´una bruixa llaminera&CloseCurlyDoubleQuote;
DTSTART;TZID=Europe/Madrid;VALUE=DATE-TIME:20181005T180000
DTEND;TZID=Europe/Madrid;VALUE=DATE-TIME:20181005T190000
DTSTAMP;VALUE=DATE-TIME:20260423T062342Z
UID:8db1e2fcf8ab12d593116ac0edc542f7
CREATED;VALUE=DATE-TIME:20181005T000000Z
CATEGORIES:Literatura,Infantils
LOCATION:Biblioteca Can Milans - C/ Esglèsia, 6
ORGANIZER:Biblioteca Can Milans
DESCRIPTION:A càrrec de Sherezade
URL:https://caldetes.cat/document.php?id=6831
END:VEVENT
END:VCALENDAR