BEGIN:VCALENDAR
VERSION:2.0
PRODID:-//Plone.org//NONSGML plone.app.event//EN
X-WR-TIMEZONE:Europe/Madrid
BEGIN:VEVENT
SUMMARY:CICLE DE XERRADES: &OpenCurlyDoubleQuote;Jo i la societat, un vincle necessari? A càrrec d´Helena Ferrer Albrecht, psicòloga especialitzada en Psicologia i Societat
DTSTART;TZID=Europe/Madrid;VALUE=DATE-TIME:20181026T235500
DTEND;TZID=Europe/Madrid;VALUE=DATE-TIME:20181027T005500
DTSTAMP;VALUE=DATE-TIME:20260422T173447Z
UID:34586b179e201dbb1b1c01a90766d1a1
CREATED;VALUE=DATE-TIME:20181001T000000Z
CATEGORIES:Conferència
LOCATION:Biblioteca Can Milans - C/ Esglèsia, 6
COMMENT:Durada: Inscripcions de l'1 al 26 d'octubre. A la biblioteca. Activitat gratuïta. Places limitades
DESCRIPTION:INSCRIPCIONS de l'1 al 26 d'octubre. Biblioteca
URL:https://caldetes.cat/document.php?id=6832
END:VEVENT
END:VCALENDAR