BEGIN:VCALENDAR
VERSION:2.0
PRODID:-//Plone.org//NONSGML plone.app.event//EN
X-WR-TIMEZONE:Europe/Madrid
BEGIN:VEVENT
SUMMARY:Trobada amb l'escriptora Sílvia Soler
DTSTART;TZID=Europe/Madrid;VALUE=DATE-TIME:20181020T110000
DTEND;TZID=Europe/Madrid;VALUE=DATE-TIME:20181020T120000
DTSTAMP;VALUE=DATE-TIME:20260422T065858Z
UID:6a98a99c8349ee28a1064d22751d92c4
CREATED;VALUE=DATE-TIME:20181020T000000Z
CATEGORIES:Literatura
LOCATION:Biblioteca Can Milans - C/ Esglèsia, 6
ORGANIZER:Biblioteca Can Milans i Institució de les Lletres Catalanes
COMMENT:Preu: Gratuït
DESCRIPTION:Lletres en Viu
URL:https://caldetes.cat/document.php?id=6834
END:VEVENT
END:VCALENDAR