BEGIN:VCALENDAR
VERSION:2.0
PRODID:-//Plone.org//NONSGML plone.app.event//EN
X-WR-TIMEZONE:Europe/Madrid
BEGIN:VEVENT
SUMMARY:EXPOSICIÓ: "Paisatges literaris"
DTSTART;TZID=Europe/Madrid;VALUE=DATE-TIME:20181101T235500
DTEND;TZID=Europe/Madrid;VALUE=DATE-TIME:20181102T005500
DTSTAMP;VALUE=DATE-TIME:20260422T122912Z
UID:2d4ad69bf0fde1c3683f83bc2071a8e0
CREATED;VALUE=DATE-TIME:20181022T000000Z
CATEGORIES:Exposició
LOCATION:Biblioteca Can Milans - C/ Esglèsia, 6
ORGANIZER:Biblioteca Can Milans
COMMENT:Durada: Del 22 d´octubre al 7 de novembre, durant l´horari d´obertura de la biblioteca.
DESCRIPTION:Del fotògraf Carles Rodríguez Marín
URL:https://caldetes.cat/document.php?id=6835
END:VEVENT
END:VCALENDAR