BEGIN:VCALENDAR
VERSION:2.0
PRODID:-//Plone.org//NONSGML plone.app.event//EN
X-WR-TIMEZONE:Europe/Madrid
BEGIN:VEVENT
SUMMARY:MARE TERRA
DTSTART;TZID=Europe/Madrid;VALUE=DATE-TIME:20181021T180000
DTEND;TZID=Europe/Madrid;VALUE=DATE-TIME:20181021T190000
DTSTAMP;VALUE=DATE-TIME:20260422T011223Z
UID:c1ab8f2bd3838f2b529072688c8d35e7
CREATED;VALUE=DATE-TIME:20181021T000000Z
CATEGORIES:Infantils,Teatre
LOCATION:Sala Cultural - 1r pis de l
ORGANIZER:Àrea de Cultura - Associació Amics del Teatre de Caldes d'Estrac
COMMENT:Preu: 3&euro;
DESCRIPTION:Espectacle familiar de titelles sobre l'orígen de la vida
URL:https://caldetes.cat/document.php?id=6840
END:VEVENT
END:VCALENDAR