BEGIN:VCALENDAR
VERSION:2.0
PRODID:-//Plone.org//NONSGML plone.app.event//EN
X-WR-TIMEZONE:Europe/Madrid
BEGIN:VEVENT
SUMMARY:Primer aniversari de l'1-O
DTSTART;TZID=Europe/Madrid;VALUE=DATE-TIME:20180930T120000
DTEND;TZID=Europe/Madrid;VALUE=DATE-TIME:20180930T130000
DTSTAMP;VALUE=DATE-TIME:20260425T160250Z
UID:3a6224ed74a7d80c2198a6484971ae55
CREATED;VALUE=DATE-TIME:20180930T000000Z
LOCATION:Sala Cultural - 1r pis de l'Ajuntament de Caldes d'Estrac, Pl. de la Vila s/n
ORGANIZER:Votants de l'1 d'octubre amb la col·laboració de l'Ajuntament de Caldes d'Estrac
COMMENT:Durada: 2 hores
DESCRIPTION:Fa un any vàrem votar
URL:https://caldetes.cat/document.php?id=6855
END:VEVENT
END:VCALENDAR