BEGIN:VCALENDAR
VERSION:2.0
PRODID:-//Plone.org//NONSGML plone.app.event//EN
X-WR-TIMEZONE:Europe/Madrid
BEGIN:VEVENT
SUMMARY:"Els papers del Josep Mont"
DTSTART;TZID=Europe/Madrid;VALUE=DATE-TIME:20181117T180000
DTEND;TZID=Europe/Madrid;VALUE=DATE-TIME:20181117T190000
DTSTAMP;VALUE=DATE-TIME:20260425T024910Z
UID:896b71860d989cdf756eed7f0f70d1cc
CREATED;VALUE=DATE-TIME:20181117T000000Z
CATEGORIES:Música,Conferència
LOCATION:Sala Cultural (Ajuntament, 1r pis) - 1r pis de l'Ajuntament de Caldes d'Estrac, Pl. de la Vila s/n
ORGANIZER:Comissió d'Història d'Arrels Cultura i Biblioteca Can Milans,
COMMENT:Preu: Gratuït
DESCRIPTION:Presentació del  treball d´investigació sobre el mestre Josep Mont. A càrrec d'Oscar Crespo i Francesc Cortés
URL:https://caldetes.cat/document.php?id=6863
END:VEVENT
END:VCALENDAR